BEGIN:VCALENDAR
VERSION:2.0
PRODID:-//Saint Veronica Catholic Church - ECPv5.0.0.2//NONSGML v1.0//EN
CALSCALE:GREGORIAN
METHOD:PUBLISH
X-WR-CALNAME:Saint Veronica Catholic Church
X-ORIGINAL-URL:https://www.stveronica.net
X-WR-CALDESC:Events for Saint Veronica Catholic Church
BEGIN:VTIMEZONE
TZID:America/New_York
BEGIN:DAYLIGHT
TZOFFSETFROM:-0500
TZOFFSETTO:-0400
TZNAME:EDT
DTSTART:20260308T070000
END:DAYLIGHT
BEGIN:STANDARD
TZOFFSETFROM:-0400
TZOFFSETTO:-0500
TZNAME:EST
DTSTART:20261101T060000
END:STANDARD
END:VTIMEZONE
BEGIN:VEVENT
DTSTART;TZID=America/New_York:20260530T100000
DTEND;TZID=America/New_York:20260530T120000
DTSTAMP:20260423T133429
CREATED:20260422T192153Z
LAST-MODIFIED:20260422T192153Z
UID:10185-1780135200-1780142400@www.stveronica.net
SUMMARY:Altar Server Training
DESCRIPTION:
URL:https://www.stveronica.net/event/altar-server-training/
LOCATION:St. Veronica Catholic Church\, ​3460 Centreville Road\, Chantilly\, VA\, 20151\, United States
ATTACH;FMTTYPE=image/png:https://www.stveronica.net/wp-content/uploads/2026/04/Your-paragraph-text.png
ORGANIZER;CN="Parish%20Office":MAILTO:info@stveronica.net
END:VEVENT
END:VCALENDAR