BEGIN:VCALENDAR
VERSION:2.0
PRODID:-//Saint Veronica Catholic Church - ECPv5.0.0.2//NONSGML v1.0//EN
CALSCALE:GREGORIAN
METHOD:PUBLISH
X-WR-CALNAME:Saint Veronica Catholic Church
X-ORIGINAL-URL:https://www.stveronica.net
X-WR-CALDESC:Events for Saint Veronica Catholic Church
BEGIN:VTIMEZONE
TZID:America/New_York
BEGIN:DAYLIGHT
TZOFFSETFROM:-0500
TZOFFSETTO:-0400
TZNAME:EDT
DTSTART:20260308T070000
END:DAYLIGHT
BEGIN:STANDARD
TZOFFSETFROM:-0400
TZOFFSETTO:-0500
TZNAME:EST
DTSTART:20261101T060000
END:STANDARD
END:VTIMEZONE
BEGIN:VEVENT
DTSTART;TZID=America/New_York:20260426T080000
DTEND;TZID=America/New_York:20260426T123000
DTSTAMP:20260423T132742
CREATED:20260422T205416Z
LAST-MODIFIED:20260422T205416Z
UID:10191-1777190400-1777206600@www.stveronica.net
SUMMARY:Doughnut Sunday hosted by the Rangers
DESCRIPTION:
URL:https://www.stveronica.net/event/doughnut-sunday-hosted-by-the-rangers-6/
LOCATION:Parish Hall
ATTACH;FMTTYPE=image/png:https://www.stveronica.net/wp-content/uploads/2026/04/Rangers-Doughnuts-2.png
END:VEVENT
END:VCALENDAR