BEGIN:VCALENDAR
VERSION:2.0
PRODID:-//Saint Veronica Catholic Church - ECPv5.0.0.2//NONSGML v1.0//EN
CALSCALE:GREGORIAN
METHOD:PUBLISH
X-WR-CALNAME:Saint Veronica Catholic Church
X-ORIGINAL-URL:https://www.stveronica.net
X-WR-CALDESC:Events for Saint Veronica Catholic Church
BEGIN:VTIMEZONE
TZID:America/New_York
BEGIN:DAYLIGHT
TZOFFSETFROM:-0500
TZOFFSETTO:-0400
TZNAME:EDT
DTSTART:20260308T070000
END:DAYLIGHT
BEGIN:STANDARD
TZOFFSETFROM:-0400
TZOFFSETTO:-0500
TZNAME:EST
DTSTART:20261101T060000
END:STANDARD
END:VTIMEZONE
BEGIN:VEVENT
DTSTART;TZID=America/New_York:20260306T180000
DTEND;TZID=America/New_York:20260306T200000
DTSTAMP:20260423T170315
CREATED:20260304T230032Z
LAST-MODIFIED:20260304T230032Z
UID:10130-1772820000-1772827200@www.stveronica.net
SUMMARY:Lenten Supper hosted by KOC followed by 6:30 pm Confessions\, 7 pm Stations of the Cross\, and 7:30 pm Mass
DESCRIPTION:
URL:https://www.stveronica.net/event/lenten-supper-hosted-by-koc-followed-by-630-pm-confessions-7-pm-stations-of-the-cross-and-730-pm-mass/
LOCATION:Church & Parish Hall\, 3460 Centreville Road\, Chantilly\, Virginia\, 20151
ATTACH;FMTTYPE=image/png:https://www.stveronica.net/wp-content/uploads/2026/03/Lenten-4.png
END:VEVENT
END:VCALENDAR