BEGIN:VCALENDAR
VERSION:2.0
PRODID:-//Saint Veronica Catholic Church - ECPv5.0.0.2//NONSGML v1.0//EN
CALSCALE:GREGORIAN
METHOD:PUBLISH
X-WR-CALNAME:Saint Veronica Catholic Church
X-ORIGINAL-URL:https://www.stveronica.net
X-WR-CALDESC:Events for Saint Veronica Catholic Church
BEGIN:VTIMEZONE
TZID:America/New_York
BEGIN:DAYLIGHT
TZOFFSETFROM:-0500
TZOFFSETTO:-0400
TZNAME:EDT
DTSTART:20260308T070000
END:DAYLIGHT
BEGIN:STANDARD
TZOFFSETFROM:-0400
TZOFFSETTO:-0500
TZNAME:EST
DTSTART:20261101T060000
END:STANDARD
END:VTIMEZONE
BEGIN:VEVENT
DTSTART;TZID=America/New_York:20260123T120000
DTEND;TZID=America/New_York:20260123T173000
DTSTAMP:20260424T061328
CREATED:20260105T155403Z
LAST-MODIFIED:20260105T155403Z
UID:9989-1769169600-1769189400@www.stveronica.net
SUMMARY:National March for Life
DESCRIPTION:St. Veronica will have a bus available to take parishioners to the annual March for Life in Washington\, D.C. on Friday\, January 23rd.  The bus will depart at noon from St. Veronica and return at 5:30pm.  Dinner will be served in the parish hall upon return provided by the Knights of Columbus. \nReserve your seat here: March For Life Bus Jan. 23\, 2026 | Flocknote \n
URL:https://www.stveronica.net/event/national-march-for-life/
ATTACH;FMTTYPE=image/png:https://www.stveronica.net/wp-content/uploads/2026/01/March-for-Life-2026.png
END:VEVENT
END:VCALENDAR