BEGIN:VCALENDAR
VERSION:2.0
PRODID:-//Saint Veronica Catholic Church - ECPv5.0.0.2//NONSGML v1.0//EN
CALSCALE:GREGORIAN
METHOD:PUBLISH
X-WR-CALNAME:Saint Veronica Catholic Church
X-ORIGINAL-URL:https://www.stveronica.net
X-WR-CALDESC:Events for Saint Veronica Catholic Church
BEGIN:VTIMEZONE
TZID:America/New_York
BEGIN:DAYLIGHT
TZOFFSETFROM:-0500
TZOFFSETTO:-0400
TZNAME:EDT
DTSTART:20250309T070000
END:DAYLIGHT
BEGIN:STANDARD
TZOFFSETFROM:-0400
TZOFFSETTO:-0500
TZNAME:EST
DTSTART:20251102T060000
END:STANDARD
END:VTIMEZONE
BEGIN:VEVENT
DTSTART;TZID=America/New_York:20251004T113000
DTEND;TZID=America/New_York:20251004T120000
DTSTAMP:20260425T220351
CREATED:20250930T173244Z
LAST-MODIFIED:20250930T173245Z
UID:9797-1759577400-1759579200@www.stveronica.net
SUMMARY:Rosary Rally
DESCRIPTION:Join us for a Rosary Rally of Protest and Reparation on Saturday\, Oct. 4 at 11:30am at the Our Lady of Guadalupe statue (Memorial for the Unborn) to the right of the North Church Entrance. Our Rosary Rally will be peaceful and lawful as we gather in prayer and reparation. \n
URL:https://www.stveronica.net/event/rosary-rally/
END:VEVENT
END:VCALENDAR