BEGIN:VCALENDAR
VERSION:2.0
PRODID:-//Saint Veronica Catholic Church - ECPv5.0.0.2//NONSGML v1.0//EN
CALSCALE:GREGORIAN
METHOD:PUBLISH
X-WR-CALNAME:Saint Veronica Catholic Church
X-ORIGINAL-URL:https://www.stveronica.net
X-WR-CALDESC:Events for Saint Veronica Catholic Church
BEGIN:VTIMEZONE
TZID:America/New_York
BEGIN:DAYLIGHT
TZOFFSETFROM:-0500
TZOFFSETTO:-0400
TZNAME:EDT
DTSTART:20230312T070000
END:DAYLIGHT
BEGIN:STANDARD
TZOFFSETFROM:-0400
TZOFFSETTO:-0500
TZNAME:EST
DTSTART:20231105T060000
END:STANDARD
END:VTIMEZONE
BEGIN:VEVENT
DTSTART;VALUE=DATE:20230709
DTEND;VALUE=DATE:20230718
DTSTAMP:20260419T153341
CREATED:20230712T155405Z
LAST-MODIFIED:20230712T155406Z
UID:8368-1688860800-1689638399@www.stveronica.net
SUMMARY:School Supply Drive Hosted by St. Mother Teresa Outreach continues this weekend.
DESCRIPTION:School Supply Drive Ends This Weekend!\nHelp students begin the school year right.\nPlease drop off school supplies after all Masses on July 15th and 16th in the marked wooden boxes located in the north and south vestibules\, monetary donations can be brought to the parish office. \nThere is a need for: \n\nCrayons\nThree-ring binders\nPens and Pencils\nDividers for binders\nColored Pencils\nFiller Paper\nColored Markers\nGraph Paper\nDry-erase Markers\nPlastic Folders\nHighlighters\nNotebooks\nBackpacks\nPencil pouches/boxes\n3×5 Index Cards\nGlue Sticks\nDisinfecting wipes/Hand sanitizers\n\nThank you in advance for your generosity! \n
URL:https://www.stveronica.net/event/school-supply-drive-hosted-by-st-mother-teresa-outreach-continues-this-weekend/
END:VEVENT
END:VCALENDAR