BEGIN:VCALENDAR
VERSION:2.0
PRODID:-//Saint Veronica Catholic Church - ECPv5.0.0.2//NONSGML v1.0//EN
CALSCALE:GREGORIAN
METHOD:PUBLISH
X-WR-CALNAME:Saint Veronica Catholic Church
X-ORIGINAL-URL:https://www.stveronica.net
X-WR-CALDESC:Events for Saint Veronica Catholic Church
BEGIN:VTIMEZONE
TZID:America/New_York
BEGIN:DAYLIGHT
TZOFFSETFROM:-0500
TZOFFSETTO:-0400
TZNAME:EDT
DTSTART:20230312T070000
END:DAYLIGHT
BEGIN:STANDARD
TZOFFSETFROM:-0400
TZOFFSETTO:-0500
TZNAME:EST
DTSTART:20231105T060000
END:STANDARD
END:VTIMEZONE
BEGIN:VEVENT
DTSTART;VALUE=DATE:20230625
DTEND;VALUE=DATE:20230626
DTSTAMP:20260419T140536
CREATED:20230613T133632Z
LAST-MODIFIED:20230613T133632Z
UID:8312-1687651200-1687737599@www.stveronica.net
SUMMARY:St. Lucy Food Drive Ends
DESCRIPTION:
URL:https://www.stveronica.net/event/st-lucy-food-drive-ends-2/
LOCATION:Parish Office & Church Vestibules\, 3460 Centreville Road\, Chantilly\, VA\, 20151\, United States
ORGANIZER;CN="St.%20Veronica%20Parish%20with%20St.%20Lucy%20Project%20of%20Arlington%20Catholic%20Charities":MAILTO:info@stveronica.net
END:VEVENT
END:VCALENDAR